BEGIN:VCALENDAR
VERSION:2.0
PRODID:-//WebToulousain.fr - ECPv5.4.0//NONSGML v1.0//EN
CALSCALE:GREGORIAN
METHOD:PUBLISH
X-WR-CALNAME:WebToulousain.fr
X-ORIGINAL-URL:https://webtoulousain.fr
X-WR-CALDESC:évènements pour WebToulousain.fr
BEGIN:VTIMEZONE
TZID:Europe/Paris
BEGIN:DAYLIGHT
TZOFFSETFROM:+0100
TZOFFSETTO:+0200
TZNAME:CEST
DTSTART:20260329T010000
END:DAYLIGHT
BEGIN:STANDARD
TZOFFSETFROM:+0200
TZOFFSETTO:+0100
TZNAME:CET
DTSTART:20261025T010000
END:STANDARD
END:VTIMEZONE
BEGIN:VEVENT
DTSTART;TZID=Europe/Paris:20260330T203000
DTEND;TZID=Europe/Paris:20260330T223000
DTSTAMP:20260421T163404
CREATED:20250918T140322Z
LAST-MODIFIED:20250918T140322Z
UID:138102-1774902600-1774909800@webtoulousain.fr
SUMMARY:ZAHO LA TOURNÉE
DESCRIPTION:Après un concert complet en quelques heures à La Cigale de Paris en novembre 2024\, et une date à la Salle Pleyel en décembre 2025 complète plus d’un an en avance\, Zaho revient sur le devant de la scène avec une tournée solo exceptionnelle en France début 2026! Avec des collaborations avec les plus grands noms de la musique (Céline Dion\, Soprano\, Sean Paul\, Francis Cabrel…) et les pointures du rap et hip hop Français (La Fouine\, Zamdane\, Naps\, Kery James…)\, plusieurs albums et de multiples récompenses et en 16 ans de carrière\, ZAHO s’est imposée comme une référence dans l’industrie musicale. \nAuteure\, compositrice et interprète de hits incontournables\, l’artiste Algéro-canadienne s’est révélée au grand public en 2008 avec “C’est Chelou“. Un succès que la chanteuse va rapidement confirmer avec les morceaux “Je te promets“\, “Tourner la page“ et “Laissez-les kouma“. Un univers\, une direction artistique\, un style urbain contemporain\, des textes toujours aussi profonds et une signature vocale inimitable\, ZAHO a fait son retour en 2023 avec la sortie de RÉSILIENCE son 4ème album dans lequel on retrouve de nombreuses collaborations (Dadju\, Nej\, Tayc…) Elle fera aussi ses débuts au cinéma avec ses 1ers pas en tant que comédienne dans le film « Yo Mama ». Un premier grand rôle dévoilant une nouvelle facette venant compléter ses talents artistiques. \nPartagez et likez-nous !
URL:https://webtoulousain.fr/event/zaho-la-tournee/
LOCATION:Salle Horizon Pyrénées\, 253 avenue des Pyrénées\, Muret\, 31600
CATEGORIES:Concert
ATTACH;FMTTYPE=image/png:https://webtoulousain.fr/wp-content/uploads/2025/06/4x5.png
END:VEVENT
END:VCALENDAR