BEGIN:VCALENDAR
VERSION:2.0
PRODID:-//WebToulousain.fr - ECPv5.4.0//NONSGML v1.0//EN
CALSCALE:GREGORIAN
METHOD:PUBLISH
X-WR-CALNAME:WebToulousain.fr
X-ORIGINAL-URL:https://webtoulousain.fr
X-WR-CALDESC:évènements pour WebToulousain.fr
BEGIN:VTIMEZONE
TZID:Europe/Paris
BEGIN:DAYLIGHT
TZOFFSETFROM:+0100
TZOFFSETTO:+0200
TZNAME:CEST
DTSTART:20260329T010000
END:DAYLIGHT
BEGIN:STANDARD
TZOFFSETFROM:+0200
TZOFFSETTO:+0100
TZNAME:CET
DTSTART:20261025T010000
END:STANDARD
END:VTIMEZONE
BEGIN:VEVENT
DTSTART;TZID=Europe/Paris:20260528T203000
DTEND;TZID=Europe/Paris:20260528T223000
DTSTAMP:20260421T151512
CREATED:20241216T190524Z
LAST-MODIFIED:20241216T190524Z
UID:137208-1780000200-1780007400@webtoulousain.fr
SUMMARY:NORA HAMZAWI
DESCRIPTION:Quand tes deux dernières recherches Google sont « temps parcours bombe atomique » et « méthode pour rajeunir sans effort » ça parait clair qu’il y a un rapport au monde pas sain.\nNora Hamzawi revient sur scène au plus près de son intimité\, utilisant son couple comme sas de décompression au chaos extérieur \nPartagez et likez-nous !
URL:https://webtoulousain.fr/event/nora-hamzawi/
LOCATION:Casino Barrière\, 18 Chemin de la Loge\, TOULOUSE\, 31400\, France
CATEGORIES:Spectacle
ATTACH;FMTTYPE=image/jpeg:https://webtoulousain.fr/wp-content/uploads/2024/12/AFFICHE-NORA-HAMZAWI-Version-web-scaled.jpg
END:VEVENT
END:VCALENDAR