BEGIN:VCALENDAR
VERSION:2.0
PRODID:-//WebToulousain.fr - ECPv5.4.0//NONSGML v1.0//EN
CALSCALE:GREGORIAN
METHOD:PUBLISH
X-WR-CALNAME:WebToulousain.fr
X-ORIGINAL-URL:https://webtoulousain.fr
X-WR-CALDESC:évènements pour WebToulousain.fr
BEGIN:VTIMEZONE
TZID:Europe/Paris
BEGIN:DAYLIGHT
TZOFFSETFROM:+0100
TZOFFSETTO:+0200
TZNAME:CEST
DTSTART:20270328T010000
END:DAYLIGHT
BEGIN:STANDARD
TZOFFSETFROM:+0200
TZOFFSETTO:+0100
TZNAME:CET
DTSTART:20271031T010000
END:STANDARD
END:VTIMEZONE
BEGIN:VEVENT
DTSTART;TZID=Europe/Paris:20270318T203000
DTEND;TZID=Europe/Paris:20270318T230000
DTSTAMP:20260423T152147
CREATED:20250605T205156Z
LAST-MODIFIED:20250605T205156Z
UID:137592-1805401800-1805410800@webtoulousain.fr
SUMMARY:NASH EN SPECTACLE
DESCRIPTION:Qui a dit qu’on ne pouvait pas avoir une crise d’ado passé 30 ans ?\nAvec beaucoup de sincérité et avec une énergie communicative\, Nash nous livre son parcours\, qui l’a amené à être sur scène aujourd’hui. De ses rêves à ses galères professionnelles et amoureuses\, en passant par des anecdotes croustillantes\, on aurait presque du mal à croire que tout lui soit réellement arrivé\, et pourtant…\nSi vous avez envie de recharger les batteries en bonne humeur\, venez découvrir ce rayon de soleil si proche de son public ! \nPartagez et likez-nous !
URL:https://webtoulousain.fr/event/nash-en-spectacle/
LOCATION:Casino Barrière\, 18 Chemin de la Loge\, TOULOUSE\, 31400\, France
CATEGORIES:Spectacle
ATTACH;FMTTYPE=image/jpeg:https://webtoulousain.fr/wp-content/uploads/2025/02/AFFICHE-NASH-NEUTRE-1.jpg
END:VEVENT
END:VCALENDAR