BEGIN:VCALENDAR
VERSION:2.0
PRODID:-//WebToulousain.fr - ECPv5.4.0//NONSGML v1.0//EN
CALSCALE:GREGORIAN
METHOD:PUBLISH
X-WR-CALNAME:WebToulousain.fr
X-ORIGINAL-URL:https://webtoulousain.fr
X-WR-CALDESC:évènements pour WebToulousain.fr
BEGIN:VTIMEZONE
TZID:Europe/Paris
BEGIN:DAYLIGHT
TZOFFSETFROM:+0100
TZOFFSETTO:+0200
TZNAME:CEST
DTSTART:20260329T010000
END:DAYLIGHT
BEGIN:STANDARD
TZOFFSETFROM:+0200
TZOFFSETTO:+0100
TZNAME:CET
DTSTART:20261025T010000
END:STANDARD
END:VTIMEZONE
BEGIN:VEVENT
DTSTART;TZID=Europe/Paris:20260405T190000
DTEND;TZID=Europe/Paris:20260407T233000
DTSTAMP:20260424T142027
CREATED:20241216T190213Z
LAST-MODIFIED:20260309T103034Z
UID:137254-1775415600-1775604600@webtoulousain.fr
SUMMARY:FLORENT PAGNY Le Retour-la Tournée des 65 ans
DESCRIPTION:Florent Pagny fera son grand retour en 2026 avec une tournée exceptionnelle. \nIl revient prêt à partager des moments forts avec son public\, où il interprétera tous ses tubes.   \nC’est à partir du mois de janvier que Florent Pagny parcourra les villes de France\, Suisse et Belgique lors de séries de concerts exclusifs\, avant de pousser les portes de l’Olympia et s’y installer en juin et juillet 2026 pour une résidence inédite. \nRendez-vous dans toute la France\, en Suisse et en Belgique dès janvier 2026. \nPartagez et likez-nous !
URL:https://webtoulousain.fr/event/florent-pagny-le-retour-la-tournee-des-65-ans/
LOCATION:Zénith Toulouse Métropole\, 11 avenue Raymond Badiou\, TOULOUSE\, 31300\, France
CATEGORIES:Concert
ATTACH;FMTTYPE=image/jpeg:https://webtoulousain.fr/wp-content/uploads/2024/12/1080x1350_260304.jpg
END:VEVENT
END:VCALENDAR