BEGIN:VCALENDAR
VERSION:2.0
PRODID:-//WebToulousain.fr - ECPv5.4.0//NONSGML v1.0//EN
CALSCALE:GREGORIAN
METHOD:PUBLISH
X-WR-CALNAME:WebToulousain.fr
X-ORIGINAL-URL:https://webtoulousain.fr
X-WR-CALDESC:évènements pour WebToulousain.fr
BEGIN:VTIMEZONE
TZID:Europe/Paris
BEGIN:DAYLIGHT
TZOFFSETFROM:+0100
TZOFFSETTO:+0200
TZNAME:CEST
DTSTART:20270328T010000
END:DAYLIGHT
BEGIN:STANDARD
TZOFFSETFROM:+0200
TZOFFSETTO:+0100
TZNAME:CET
DTSTART:20271031T010000
END:STANDARD
END:VTIMEZONE
BEGIN:VEVENT
DTSTART;TZID=Europe/Paris:20270318T200000
DTEND;TZID=Europe/Paris:20270318T223000
DTSTAMP:20260422T144130
CREATED:20260412T211543Z
LAST-MODIFIED:20260412T211543Z
UID:143159-1805400000-1805409000@webtoulousain.fr
SUMMARY:ELIE SEMOUN "CACTUS"
DESCRIPTION:“CACTUS” \nInutile de chercher bien loin pour comprendre le ton de CACTUS ! En donnant ce nom à son nouveau spectacle\, Elie Semoun annonce la couleur : ça va piquer ! \nDepuis 30 ans\, l’humoriste s’est imposé comme l’un des humoristes les plus incisifs et délicieusement décalés de la scène française. Son style\, qui mêle finesse et audace\, a inspiré de nombreuses générations d’artistes. \nPour son huitième spectacle\, Elie Semoun opère un léger virage : le stand-up occupe désormais une place plus importante\, une nouveauté pour lui. Mais ne vous y trompez pas\, CACTUS reste fidèle à son goût pour les personnages. Parmi la galerie de ses nouveaux monstres\, vous croiserez Jean Abdul\, qui assurera sa première partie\, un fils qui emmène son père visiter un EHPAD\, Xavier l’handicapé moteur qui présente sa femme à sa mère\, un père confronté à la transition de son fils\, un professeur de karaté raciste\, ou encore un regard mordant sur le harcèlement sexuel et la religion. \nAvec CACTUS\, Elie Semoun nous propose une vision à la fois profonde et légère de notre société\, entre violence et inspiration\, où les thèmes de l’intolérance\, du tabou et de l’injustice sont abordés sans fard\, mais toujours avec cette touche incisive qui le caractérise. \nPartagez et likez-nous !
URL:https://webtoulousain.fr/event/elie-semoun-cactus/
LOCATION:Salle Horizon Pyrénées\, 253 avenue des Pyrénées\, Muret\, 31600
CATEGORIES:Spectacle
ATTACH;FMTTYPE=image/png:https://webtoulousain.fr/wp-content/uploads/2026/04/1080X1350.png
END:VEVENT
END:VCALENDAR