BEGIN:VCALENDAR
VERSION:2.0
PRODID:-//WebToulousain.fr - ECPv5.4.0//NONSGML v1.0//EN
CALSCALE:GREGORIAN
METHOD:PUBLISH
X-WR-CALNAME:WebToulousain.fr
X-ORIGINAL-URL:https://webtoulousain.fr
X-WR-CALDESC:évènements pour WebToulousain.fr
BEGIN:VTIMEZONE
TZID:Europe/Paris
BEGIN:DAYLIGHT
TZOFFSETFROM:+0100
TZOFFSETTO:+0200
TZNAME:CEST
DTSTART:20260329T010000
END:DAYLIGHT
BEGIN:STANDARD
TZOFFSETFROM:+0200
TZOFFSETTO:+0100
TZNAME:CET
DTSTART:20261025T010000
END:STANDARD
END:VTIMEZONE
BEGIN:VEVENT
DTSTART;TZID=Europe/Paris:20260603T200000
DTEND;TZID=Europe/Paris:20260603T230000
DTSTAMP:20260424T104740
CREATED:20250322T222916Z
LAST-MODIFIED:20250322T222916Z
UID:137734-1780516800-1780527600@webtoulousain.fr
SUMMARY:ADEL FUGAZI "PAUSE"
DESCRIPTION:Adel se distingue par un humour absurde et décalé\, en abordant des sujets légers et universels. Il nous offre un point de vue rafraîchissant\, souvent à contre-courant des tendances actuelles\, et cela fait du bien ! Ce style unique lui permet de captiver le public\, le transportant dans un univers où l’absurde devient un véritable outil de réflexion et d’évasion. \nIl est remarqué pour son parcours impressionnant. En 2022\, il fait sensation au Festival de Montreux\, ce qui lui ouvre les portes de la prestigieuse Troupe du Jamel Comedy Club. Sa participation régulière à ce célèbre spectacle lui permet de se faire un nom sur la scène humoristique française. \nEn 2023\, il confirme son talent en remportant le prix du Festival d’Humour de Paris. Puis\, en 2024\, il atteint la finale de Comedy Class avec Éric et Ramzy\, un coup de projecteur qui renforce sa notoriété. Depuis\, son spectacle affiche complet\, témoignant de son succès grandissant.
URL:https://webtoulousain.fr/event/adel-fugazi-pause/
LOCATION:La Comédie\, 16 rue Saint Germier\, Toulouse\, 31000\, France
CATEGORIES:Spectacle
ATTACH;FMTTYPE=image/jpeg:https://webtoulousain.fr/wp-content/uploads/2025/03/AFFICHE.jpg
END:VEVENT
BEGIN:VEVENT
DTSTART;TZID=Europe/Paris:20260603T200000
DTEND;TZID=Europe/Paris:20260603T230000
DTSTAMP:20260424T104740
CREATED:20250605T204744Z
LAST-MODIFIED:20250605T204744Z
UID:137813-1780516800-1780527600@webtoulousain.fr
SUMMARY:CALOGERO EN CONCERT
DESCRIPTION:Quinze ans après\, Calogero retrouvera les théâtres dès septembre 2025 pour une tournée évènement de plus de 150 dates. \nAprès avoir sillonné les Zénith et Arena\, il revient sur scène dans des lieux plus intimistes pour offrir un résumé de son parcours en concert\, avec une sélection de « morceaux choisis » issus de son répertoire et présentés dans des versions inédites.
URL:https://webtoulousain.fr/event/calogero-en-concert/
LOCATION:Amphithéatre de Rodez\, Bd 122ème Régiment d´Infanterie\, RODEZ\, 12000\, France
CATEGORIES:Concert
ATTACH;FMTTYPE=image/png:https://webtoulousain.fr/wp-content/uploads/2025/03/Story-Rodez.png
END:VEVENT
BEGIN:VEVENT
DTSTART;TZID=Europe/Paris:20260603T203000
DTEND;TZID=Europe/Paris:20260603T233000
DTSTAMP:20260424T104740
CREATED:20250605T205233Z
LAST-MODIFIED:20250605T205233Z
UID:137500-1780518600-1780529400@webtoulousain.fr
SUMMARY:THOMAS MARTY "Nouveau Spectacle"
DESCRIPTION:Après le succès de son premier spectacle\, Thomas Marty revient sur scène pour nous raconter ses nouvelles aventures.
URL:https://webtoulousain.fr/event/thomas-marty-nouveau-spectacle/
LOCATION:Casino Barrière\, 18 Chemin de la Loge\, TOULOUSE\, 31400\, France
CATEGORIES:Spectacle
ATTACH;FMTTYPE=image/jpeg:https://webtoulousain.fr/wp-content/uploads/2025/01/AFFICHE-SPECTACLE-RETAILLE-1-scaled.jpeg
END:VEVENT
BEGIN:VEVENT
DTSTART;TZID=Europe/Paris:20260606T203000
DTEND;TZID=Europe/Paris:20260606T223000
DTSTAMP:20260424T104740
CREATED:20250605T204651Z
LAST-MODIFIED:20250605T204651Z
UID:137864-1780777800-1780785000@webtoulousain.fr
SUMMARY:PHILIPPINE DELAIRE "FIFILLE A PAPA"
DESCRIPTION:C’est au travers de ses personnages hauts en couleurs qui ont fait son succès sur les réseaux sociaux que Philippine vous parle de la famille et de ses réticences à en créer une\, du temps qui passe et du talent qu’il faut pour être grand sans être adulte. \nUne énergie folle et communicative\, un spectacle solaire\, et une question : et vous\, que diriez-vous vous à l’enfant que vous étiez ?
URL:https://webtoulousain.fr/event/philippine-delaire-fifille-a-papa/
LOCATION:la Cabane\, 10 PLACE DE LA CHARTE\, Toulouse\, 31300\, France
CATEGORIES:Spectacle
ATTACH;FMTTYPE=image/jpeg:https://webtoulousain.fr/wp-content/uploads/2025/04/Philippine-Delaire_FFAP_visuelweb_1080x1080.jpg
END:VEVENT
BEGIN:VEVENT
DTSTART;TZID=Europe/Paris:20260607T203000
DTEND;TZID=Europe/Paris:20260607T230000
DTSTAMP:20260424T104740
CREATED:20260130T022019Z
LAST-MODIFIED:20260202T112746Z
UID:139553-1780864200-1780873200@webtoulousain.fr
SUMMARY:SASHA VELOUR “TRAVESTY”
DESCRIPTION:“TRAVESTY” \nL’icône drag internationalement adorée Sasha Velour (RuPaul’s Drag Race) revient à Toulouse avec son nouveau spectacle de théâtre\, Travesty. \nTravesty retrace l’histoire secrète queer d’un seul endroit à travers le temps — Une sorcière brûle dans un champ ; un clown construit un théâtre ; un bar gay souterrain se dresse contre la police. Alors que Velour incarne différents personnages à travers une série de lip-syncs époustouflants\, elle vous invite à participer au cycle d’existence\, de résistance et de camp qui EST le drag. À la fois art de performance\, histoire et appel à l’action\, Tragesty vous fera hurler à pleins poumons\, danser dans les allées\, et vous inspirera à « changer ce foutu monde ! » \nVelour est connue pour sa fusion unique de performance de lip sync\, d’art vidéo et de narration. Elle est la lauréate de la saison 9 de RuPaul’s Drag Race (2017)\, fondatrice et animatrice de la légendaire revue drag new-yorkaise NightGowns (depuis 2015) et a tourné deux spectacles théâtraux renommés à une seule reine à travers le monde — Smoke & Mirrors (2019-2022) et The Big Reveal (2023-2025). \n  Travesty durera environ 80 minutes sans entracte.
URL:https://webtoulousain.fr/event/sasha-velour-travesty/
LOCATION:Casino Barrière\, 18 Chemin de la Loge\, TOULOUSE\, 31400\, France
CATEGORIES:Spectacle
ATTACH;FMTTYPE=image/png:https://webtoulousain.fr/wp-content/uploads/2026/01/1080x1350.png
END:VEVENT
END:VCALENDAR