BEGIN:VCALENDAR
VERSION:2.0
PRODID:-//WebToulousain.fr - ECPv5.4.0//NONSGML v1.0//EN
CALSCALE:GREGORIAN
METHOD:PUBLISH
X-WR-CALNAME:WebToulousain.fr
X-ORIGINAL-URL:https://webtoulousain.fr
X-WR-CALDESC:évènements pour WebToulousain.fr
BEGIN:VTIMEZONE
TZID:Europe/Paris
BEGIN:DAYLIGHT
TZOFFSETFROM:+0100
TZOFFSETTO:+0200
TZNAME:CEST
DTSTART:20260329T010000
END:DAYLIGHT
BEGIN:STANDARD
TZOFFSETFROM:+0200
TZOFFSETTO:+0100
TZNAME:CET
DTSTART:20261025T010000
END:STANDARD
END:VTIMEZONE
BEGIN:VEVENT
DTSTART;TZID=Europe/Paris:20260506T200000
DTEND;TZID=Europe/Paris:20260506T230000
DTSTAMP:20260422T132508
CREATED:20250322T224043Z
LAST-MODIFIED:20260203T114811Z
UID:137626-1778097600-1778108400@webtoulousain.fr
SUMMARY:AMEL BENT en concert
DESCRIPTION:Amel Bent est de retour. \n490 jours. 490 jours de silence. \nPas un mot sur les réseaux\, pas une interview\, pas une apparition télé. \nDes nuits blanches à écrire et composer\, à décharger ses blessures\, ses peines\, ses forces\, ses faiblesses et ses vérités. \nSon 8ᵉ album est brut\, poignant et sans filtre. \nAmel comme on l’aime : pertinente\, impertinente\, incisive\, impudique. \nElle revient plus forte et plus libre que jamais\, et nous donne rendez-vous pour célébrer ses 20 ans de carrière : retrouvez-la en tournée partout en France et Belgique\, et le 29 avril 2026 à l’Accor Arena de Paris.
URL:https://webtoulousain.fr/event/amel-bent-minuit-une-tour/
LOCATION:Zénith Toulouse Métropole\, 11 avenue Raymond Badiou\, TOULOUSE\, 31300\, France
CATEGORIES:Concert
ATTACH;FMTTYPE=image/png:https://webtoulousain.fr/wp-content/uploads/2025/03/AMEL-BENT-PORTRAIT.png
END:VEVENT
BEGIN:VEVENT
DTSTART;TZID=Europe/Paris:20260507T200000
DTEND;TZID=Europe/Paris:20260507T230000
DTSTAMP:20260422T132508
CREATED:20250923T160857Z
LAST-MODIFIED:20250923T160857Z
UID:138433-1778184000-1778194800@webtoulousain.fr
SUMMARY:ALAN STIVELL "Liberté-60 ans de carrière"
DESCRIPTION:Véritable légende\, Alan Stivell célèbre ses 60 ans de carrière en 2026 avec sa tournée « LIBERTE » ! \nPrécurseur et pionnier\, il a réussi à faire aimer sa musique dans le monde entier\, marquant la vie de générations d’artistes et de publics. \nIl a pu imposer sa liberté totale\, comme son originalité\, replongeant au plus profond des racines celtiques\, les frottant aux sons planétaires\, pour faire de sa musique et de son chant des expressions d’avant-garde. \nSes concerts restent des moments uniques\, portés par une émotion irrésistible\, une énergie intemporelle et une authenticité rare. \nLe 31 mai 2026 à 20h30\, Alan Stivell sera sur la scène mythique de l’Olympia de Paris pour un concert à la hauteur de son immense carrière.
URL:https://webtoulousain.fr/event/alan-stivell-liberte-60-ans-de-carriere/
LOCATION:Salle Horizon Pyrénées\, 253 avenue des Pyrénées\, Muret\, 31600
CATEGORIES:Concert
ATTACH;FMTTYPE=image/png:https://webtoulousain.fr/wp-content/uploads/2025/09/muret.png
END:VEVENT
BEGIN:VEVENT
DTSTART;TZID=Europe/Paris:20260513T193000
DTEND;TZID=Europe/Paris:20260513T193000
DTSTAMP:20260422T132508
CREATED:20260130T022153Z
LAST-MODIFIED:20260130T022153Z
UID:139550-1778700600-1778700600@webtoulousain.fr
SUMMARY:LES DEMOISELLES
DESCRIPTION:Le Cabaret Le Robinson  ouvre ses portes pour une soirée hors du commun !\nHabituellement consacré à nos spectacles de variété\, nous avons le plaisir d’accueillir\, le temps d’un événement spécial\, la troupe « Les Demoiselles ». \nVendredi 12 Juin à 19h30 – Dîner spectacle\nSamedi 13 Juin à 19h30 – Dîner spectacle\nDimanche 14 Juin à 12h – Déjeuner spectacle \nAu programme : un tourbillon de plumes\, de brillance\, de numéros élégants\, et l’énergie éclatante du French Cancan.\nUn spectacle raffiné et pétillant\, qui vous fera voyager dans l’univers des grandes revues parisiennes. \nRéservez vite\, les places sont limitées !
URL:https://webtoulousain.fr/event/les-demoiselles/
LOCATION:Cabaret Le Robinson\, 348 Avenue de Toulouse\, Le Vernet\, 31810\, France
CATEGORIES:Spectacle
ATTACH;FMTTYPE=image/png:https://webtoulousain.fr/wp-content/uploads/2026/01/LES-DEMOISELLES.png
END:VEVENT
BEGIN:VEVENT
DTSTART;TZID=Europe/Paris:20260516T200000
DTEND;TZID=Europe/Paris:20260516T230000
DTSTAMP:20260422T132508
CREATED:20250605T204711Z
LAST-MODIFIED:20250902T143402Z
UID:137831-1778961600-1778972400@webtoulousain.fr
SUMMARY:SAXON EN CONCERT
DESCRIPTION:SAXON fait son grand retour au Zénith Paris – La Villette\, 40 ans après ses concerts événements de 1984\, 1985 et 1986\, pour offrir à ses fans français son show “Castles & Eagles”. Un spectacle qui reprend tous les codes des fameux concerts des années 80\, tant au niveau du choix de chansons que des décorations.  \nDe “Strong Arm Of The Law” à “Power & The Glory” en passant par “Denim And Leather” jusqu’à “Hell\, Fire And Damnation”\, tous les grands albums de SAXON seront passés en revue. \nPour ces trois concerts exclusifs\, SAXON sera accompagné de SORTILÈGE\, LE groupe de “heavy metal made in France” des années 80. \nSAXON & SORTILEGE donnent rendez-vous à toutes les générations d’amateurs de Heavy Metal\, afin de célébrer ensemble cette musique qui rythme leur vie depuis\, pour certains\, plus de 4 décennies.
URL:https://webtoulousain.fr/event/saxon-en-concert/
LOCATION:Zénith Toulouse Métropole\, 11 avenue Raymond Badiou\, TOULOUSE\, 31300\, France
CATEGORIES:Concert
ATTACH;FMTTYPE=image/png:https://webtoulousain.fr/wp-content/uploads/2025/06/Saxon_2026_CET_visuelweb_fnac_1080x1920_toulouse.png
END:VEVENT
BEGIN:VEVENT
DTSTART;TZID=Europe/Paris:20260528T203000
DTEND;TZID=Europe/Paris:20260528T223000
DTSTAMP:20260422T132508
CREATED:20241216T190524Z
LAST-MODIFIED:20241216T190524Z
UID:137208-1780000200-1780007400@webtoulousain.fr
SUMMARY:NORA HAMZAWI
DESCRIPTION:Quand tes deux dernières recherches Google sont « temps parcours bombe atomique » et « méthode pour rajeunir sans effort » ça parait clair qu’il y a un rapport au monde pas sain.\nNora Hamzawi revient sur scène au plus près de son intimité\, utilisant son couple comme sas de décompression au chaos extérieur
URL:https://webtoulousain.fr/event/nora-hamzawi/
LOCATION:Casino Barrière\, 18 Chemin de la Loge\, TOULOUSE\, 31400\, France
CATEGORIES:Spectacle
ATTACH;FMTTYPE=image/jpeg:https://webtoulousain.fr/wp-content/uploads/2024/12/AFFICHE-NORA-HAMZAWI-Version-web-scaled.jpg
END:VEVENT
BEGIN:VEVENT
DTSTART;TZID=Europe/Paris:20260528T203000
DTEND;TZID=Europe/Paris:20260528T223000
DTSTAMP:20260422T132508
CREATED:20260313T171654Z
LAST-MODIFIED:20260313T171654Z
UID:139892-1780000200-1780007400@webtoulousain.fr
SUMMARY:IL CELLO EN CONCERT
DESCRIPTION:Révélés et réunis par Florent Pagny\, les trois voix d’Il Cello – Levon\, Salvatore et Sébastien – fusionnent opéra et pop dans un mélange fort d’émotion et de puissance. Sous la réalisation du grand Yvan Cassar\, ils revisitent avec éclat des monuments de la chanson italienne\, des airs d’opéra et des classiques intemporels. \nIls seront en concert à La Comédie de Toulouse le 28 mai 2026.
URL:https://webtoulousain.fr/event/il-cello-en-concert/
LOCATION:La Comédie\, 16 rue Saint Germier\, Toulouse\, 31000\, France
CATEGORIES:Concert
ATTACH;FMTTYPE=image/jpeg:https://webtoulousain.fr/wp-content/uploads/2026/03/ILCELLO_40x60_260312_2.jpg
END:VEVENT
END:VCALENDAR